BEGIN:VCALENDAR
VERSION:2.0
PRODID:-//hacksw/handcal//NONSGML v1.0//EN
BEGIN:VEVENT
DTSTART:20260528T090000
DTEND:20260528T200000
LOCATION:https://gethighered.com/en/events/6047abb4-85cf-41d5-9aec-c0c0923821bb-sustainability--dei-career-paths-expo/details
ORGANIZER;CN=Elfried NAMSENOM:MAILTO:elfried.namsenom@tsm-education.fr
SUMMARY::seedling: Sustainability & DEI Career Paths Expo: Explore impactful careers
DESCRIPTION:Do you want to give meaning to your career and contribute to major societal and environmental issues?\nThe Sustainability & DEI Career Paths Expo highlights professional opportunities in the fields of...
URL:https://www.tsm-connect.fr/en/event/-seedling-sustainability-dei-career-paths-expo-explore-impactful-careers/2026/05/28/1004
BEGIN:VALARM
TRIGGER:-P0DT1H0M0S
ACTION:DISPLAY
END:VALARM
END:VEVENT
END:VCALENDAR