BEGIN:VCALENDAR
VERSION:2.0
PRODID:-//hacksw/handcal//NONSGML v1.0//EN
BEGIN:VEVENT
DTSTART:20260616T155500
DTEND:20260616T170000
LOCATION:https://gethighered.com/en/events/72807a1f-2cd2-46ea-b18d-ccca3b99843c-entrepreneurship--innovation-careers/details
ORGANIZER;CN=Elfried NAMSENOM:MAILTO:elfried.namsenom@tsm-education.fr
SUMMARY::rocket: Entrepreneurship & Innovation Careers: explore careers in the startup ecosystem
DESCRIPTION:Vous êtes curieux de découvrir le monde des startups, des hubs d’innovation et des entreprises en forte croissance ?\nLe workshop Entrepreneurship & Innovation Careers vous propose d’explorer les...
URL:https://www.tsm-connect.fr/en/event/-rocket-entrepreneurship-innovation-careers-explore-careers-in-the-startup-ecosystem/2026/06/16/1005
BEGIN:VALARM
TRIGGER:-P0DT1H0M0S
ACTION:DISPLAY
END:VALARM
END:VEVENT
END:VCALENDAR