BEGIN:VCALENDAR
VERSION:2.0
PRODID:-//hacksw/handcal//NONSGML v1.0//EN
BEGIN:VEVENT
DTSTART:20260506T090000
DTEND:20260506T190500
LOCATION:La Cité Montaudran — Toulouse \n55, Avenue Louis Breguet \n31400 TOULOUSE
ORGANIZER;CN=Elfried NAMSENOM:MAILTO:elfried.namsenom@tsm-education.fr
SUMMARY::seedling: Transition Careers Day – Explore careers that make a difference
DESCRIPTION:Are you interested in pursuing a career in impact-driven fields or learning more about opportunities related to the green transition? The Transition Careers Day is returning to Toulouse for a new...
URL:https://www.tsm-connect.fr/en/event/-seedling-transition-careers-day-explore-careers-that-make-a-difference/2026/05/06/1016
BEGIN:VALARM
TRIGGER:-P0DT1H0M0S
ACTION:DISPLAY
END:VALARM
END:VEVENT
END:VCALENDAR