BEGIN:VCALENDAR
VERSION:2.0
PRODID:-//hacksw/handcal//NONSGML v1.0//EN
BEGIN:VEVENT
DTSTART:20170127T161000
DTEND:20170410T000000
LOCATION:www.jobs.airbusgroup.com
ORGANIZER;CN=IAE Toulouse:MAILTO:damotteflorent@gmail.com
SUMMARY:Airbus SAS & Airbus Operations SAS - Campagne de stages rémunérés 2017
DESCRIPTION:\nAirbus vous informe du lancement de sa campagne de stages rémunérés pour l’année 2017 pour ses trois\nsites d’Airbus en France : Toulouse, Nantes et Saint-Nazaire.\n \nNos priorités pour cette...
URL:https://www.tsm-connect.fr/en/event/airbus-sas-airbus-operations-sas-campagne-de-stages-remuneres-2017/2017/01/27/487
BEGIN:VALARM
TRIGGER:-P0DT1H0M0S
ACTION:DISPLAY
END:VALARM
END:VEVENT
END:VCALENDAR