BEGIN:VCALENDAR
VERSION:2.0
PRODID:-//hacksw/handcal//NONSGML v1.0//EN
BEGIN:VEVENT
DTSTART:20210119T093000
DTEND:20210119T123000
LOCATION:Online
ORGANIZER;CN=Vanina Holgado:MAILTO:vanina.holgado@tsm-education.fr
SUMMARY:Les RDV pro - Recruitment in IT: internship, work-study and jobs
DESCRIPTION:SUIO-IP is associated with the MIAGE section of the Faculty of Information Technology to propose a day dedicated to your professional integration. This forum for putting you in touch with...
URL:https://www.tsm-connect.fr/en/event/les-rdv-pro-recruitment-in-it-internship-work-study-and-jobs/2021/01/19/692
BEGIN:VALARM
TRIGGER:-P0DT1H0M0S
ACTION:DISPLAY
END:VALARM
END:VEVENT
END:VCALENDAR