BEGIN:VCALENDAR
VERSION:2.0
PRODID:-//hacksw/handcal//NONSGML v1.0//EN
BEGIN:VEVENT
DTSTART:20260528T090000
DTEND:20260528T200000
LOCATION:https://gethighered.com/en/events/6047abb4-85cf-41d5-9aec-c0c0923821bb-sustainability--dei-career-paths-expo/details
ORGANIZER;CN=Elfried NAMSENOM:MAILTO:elfried.namsenom@tsm-education.fr
SUMMARY::seedling:  Salon des carrières dans le domaine du développement durable et de la diversité, de l'équité et de l'inclusion
DESCRIPTION:Vous souhaitez donner du sens à votre carrière et contribuer à des enjeux sociétaux et environnementaux majeurs ?\nLe Sustainability & DEI Career Paths Expo met à l’honneur des opportunités...
URL:https://www.tsm-connect.fr/fr/event/-seedling-salon-des-carrieres-dans-le-domaine-du-developpement-durable-et-de-la-diversite-de-l-equite-et-de-l-inclusion/2026/05/28/1004
BEGIN:VALARM
TRIGGER:-P0DT1H0M0S
ACTION:DISPLAY
END:VALARM
END:VEVENT
END:VCALENDAR