BEGIN:VCALENDAR
VERSION:2.0
PRODID:-//hacksw/handcal//NONSGML v1.0//EN
BEGIN:VEVENT
DTSTART:20260506T090000
DTEND:20260506T190500
LOCATION:La Cité Montaudran — Toulouse \n55, Avenue Louis Breguet \n31400 TOULOUSE
ORGANIZER;CN=Elfried NAMSENOM:MAILTO:elfried.namsenom@tsm-education.fr
SUMMARY::seedling: Journée des Métiers de la Transition – Explorez les carrières à impact
DESCRIPTION:Vous souhaitez vous orienter vers des métiers à impact ou en savoir plus sur les opportunités liées à la transition écologique ? La Journée des Métiers de la Transition revient à Toulouse pour une...
URL:https://www.tsm-connect.fr/fr/event/-seedling-journee-des-metiers-de-la-transition-explorez-les-carrieres-a-impact/2026/05/06/1016
BEGIN:VALARM
TRIGGER:-P0DT1H0M0S
ACTION:DISPLAY
END:VALARM
END:VEVENT
END:VCALENDAR