BEGIN:VCALENDAR
VERSION:2.0
PRODID:-//hacksw/handcal//NONSGML v1.0//EN
BEGIN:VEVENT
DTSTART:20210119T093000
DTEND:20210119T123000
LOCATION:Online
ORGANIZER;CN=Vanina Holgado:MAILTO:vanina.holgado@tsm-education.fr
SUMMARY:Les RDV pro - Recrutement en informatique : stage, alternance et emploi
DESCRIPTION:Le SUIO-IP s’associe à la filière MIAGE de la Faculté d'Informatique pour vous proposer une journée consacrée à votre insertion professionnelle. Ce forum de mise en relation avec les professionnels...
URL:https://www.tsm-connect.fr/fr/event/les-rdv-pro-recrutement-en-informatique-stage-alternance-et-emploi/2021/01/19/692
BEGIN:VALARM
TRIGGER:-P0DT1H0M0S
ACTION:DISPLAY
END:VALARM
END:VEVENT
END:VCALENDAR